BEGIN:VCALENDAR
PRODID:-//Microsoft Corporation//Outlook 16.0 MIMEDIR//EN
VERSION:2.0
METHOD:PUBLISH
X-MS-OLK-FORCEINSPECTOROPEN:TRUE
BEGIN:VTIMEZONE
TZID:E. Australia Standard Time
BEGIN:STANDARD
DTSTART:16010101T000000
TZOFFSETFROM:+1000
TZOFFSETTO:+1000
END:STANDARD
END:VTIMEZONE
BEGIN:VEVENT
CLASS:PUBLIC
CREATED:20250124T024508Z
DESCRIPTION: \n\n
DTEND;TZID="E. Australia Standard Time":20250301T163000
DTSTAMP:20250124T024508Z
DTSTART;TZID="E. Australia Standard Time":20250301T083000
LAST-MODIFIED:20250124T024508Z
LOCATION:GCPHN\, Level 1/14 Edgewater Court\, Robina Qld 4226
PRIORITY:5
SEQUENCE:0
SUMMARY;LANGUAGE=en-us:Wound Management Training for Nurses in primary care
TRANSP:OPAQUE
UID:040000008200E00074C5B7101A82E008000000008A80ECC36261DB01000000000000000
	0100000001191015B8EF24541B54206C8B1D520B1
X-ALT-DESC;FMTTYPE=text/html:<html xmlns:v="urn:schemas-microsoft-com:vml" 
	xmlns:o="urn:schemas-microsoft-com:office:office" xmlns:w="urn:schemas-mic
	rosoft-com:office:word" xmlns:m="http://schemas.microsoft.com/office/2004/
	12/omml" xmlns="http://www.w3.org/TR/REC-html40"><head><meta name=Generato
	r content="Microsoft Word 15 (filtered medium)"><style><!--\n/* Font Defin
	itions */\n@font-face\n	{font-family:"Cambria Math"\;\n	panose-1:2 4 5 3 5
	 4 6 3 2 4\;}\n@font-face\n	{font-family:Aptos\;}\n/* Style Definitions */
	\np.MsoNormal\, li.MsoNormal\, div.MsoNormal\n	{margin:0cm\;\n	font-size:1
	1.0pt\;\n	font-family:"Aptos"\,sans-serif\;\n	mso-ligatures:standardcontex
	tual\;\n	mso-fareast-language:EN-US\;}\nspan.EmailStyle18\n	{mso-style-typ
	e:personal-compose\;\n	font-family:"Aptos"\,sans-serif\;\n	color:windowtex
	t\;}\n.MsoChpDefault\n	{mso-style-type:export-only\;\n	font-size:10.0pt\;\
	n	mso-ligatures:none\;}\n@page WordSection1\n	{size:612.0pt 792.0pt\;\n	ma
	rgin:72.0pt 72.0pt 72.0pt 72.0pt\;}\ndiv.WordSection1\n	{page:WordSection1
	\;}\n--></style><!--[if gte mso 9]><xml>\n<o:shapedefaults v:ext="edit" sp
	idmax="1026" />\n</xml><![endif]--><!--[if gte mso 9]><xml>\n<o:shapelayou
	t v:ext="edit">\n<o:idmap v:ext="edit" data="1" />\n</o:shapelayout></xml>
	<![endif]--></head><body lang=EN-AU link="#467886" vlink="#96607D" style='
	word-wrap:break-word'><div class=WordSection1><p class=MsoNormal><o:p>&nbs
	p\;</o:p></p></div></body></html>
X-MICROSOFT-CDO-BUSYSTATUS:BUSY
X-MICROSOFT-CDO-IMPORTANCE:1
X-MICROSOFT-DISALLOW-COUNTER:FALSE
BEGIN:VALARM
TRIGGER:-PT15M
ACTION:DISPLAY
DESCRIPTION:Reminder
END:VALARM
END:VEVENT
END:VCALENDAR
